BEGIN:VCALENDAR
VERSION:2.0
PRODID:-//ChamberMaster//Event Calendar 2.0//EN
METHOD:PUBLISH
X-PUBLISHED-TTL:P3D
REFRESH-INTERVAL:P3D
CALSCALE:GREGORIAN
BEGIN:VEVENT
DTSTART:20210704T160000Z
DTEND:20210705T030000Z
X-MICROSOFT-CDO-ALLDAYEVENT:FALSE
SUMMARY:TOTRA Independce Day Bash
DESCRIPTION:Family Fun\n\nBBQ Cook Off\n\nCorn hole Tournament\n\nHorse Shoe Tournament\n\nGreat view of City if Pampa fireworks display\nFor more information head over to the Facebook Page
X-ALT-DESC;FMTTYPE=text/html:<div class="kvgmc6g5 cxmmr5t8 oygrvhab hcukyx3x c1et5uql">Family Fun</div>\n\n<div class="o9v6fnle cxmmr5t8 oygrvhab hcukyx3x c1et5uql">BBQ Cook Off</div>\n\n<div class="o9v6fnle cxmmr5t8 oygrvhab hcukyx3x c1et5uql">Corn hole Tournament</div>\n\n<div class="o9v6fnle cxmmr5t8 oygrvhab hcukyx3x c1et5uql">Horse Shoe Tournament</div>\n\n<div class="o9v6fnle cxmmr5t8 oygrvhab hcukyx3x c1et5uql">Great view of City if Pampa fireworks display</div>\nFor more information head over to the Facebook Page
LOCATION:TOTRA Rodeo Arena Hwy 60 West
UID:e.3508.87
SEQUENCE:3
DTSTAMP:20260424T175524Z
URL:http://pampachambertx.chambermaster.com/events/details/totra-independce-day-bash-87
END:VEVENT

END:VCALENDAR
