BEGIN:VCALENDAR
VERSION:2.0
PRODID:-//ChamberMaster//Event Calendar 2.0//EN
METHOD:PUBLISH
X-PUBLISHED-TTL:P3D
REFRESH-INTERVAL:P3D
CALSCALE:GREGORIAN
BEGIN:VEVENT
DTSTART:20200628T170000Z
DTEND:20200628T170000Z
X-MICROSOFT-CDO-ALLDAYEVENT:FALSE
SUMMARY:PAWs for Tea
DESCRIPTION:
X-ALT-DESC;FMTTYPE=text/html:
LOCATION:
UID:e.3508.22
SEQUENCE:3
DTSTAMP:20260424T033345Z
URL:http://pampachambertx.chambermaster.com/events/details/paws-for-tea-22
END:VEVENT

END:VCALENDAR
