BEGIN:VCALENDAR
VERSION:2.0
PRODID:-//ChamberMaster//Event Calendar 2.0//EN
METHOD:PUBLISH
X-PUBLISHED-TTL:P3D
REFRESH-INTERVAL:P3D
CALSCALE:GREGORIAN
BEGIN:VEVENT
DTSTART:20201113T230000Z
DTEND:20201114T030000Z
X-MICROSOFT-CDO-ALLDAYEVENT:FALSE
SUMMARY:Lighting on the Bricks
DESCRIPTION:Come enjoy downtown shopping and lighting up the bricks for the holiday
X-ALT-DESC;FMTTYPE=text/html:Come enjoy downtown shopping and lighting up the bricks for the holiday
LOCATION:Downtown Pampa
UID:e.3508.51
SEQUENCE:3
DTSTAMP:20260423T183115Z
URL:http://pampachambertx.chambermaster.com/events/details/lighting-on-the-bricks-51
END:VEVENT

END:VCALENDAR
