BEGIN:VCALENDAR
VERSION:2.0
PRODID:-//ChamberMaster//Event Calendar 2.0//EN
METHOD:PUBLISH
X-PUBLISHED-TTL:P3D
REFRESH-INTERVAL:P3D
CALSCALE:GREGORIAN
BEGIN:VEVENT
DTSTART:20201009T220000Z
DTEND:20201010T020000Z
X-MICROSOFT-CDO-ALLDAYEVENT:FALSE
SUMMARY:Fall Harvest on the Bricks
DESCRIPTION:Come shop local and enjoy Fall Harvest on the Bricks
X-ALT-DESC;FMTTYPE=text/html:Come shop local and enjoy Fall Harvest on the Bricks
LOCATION:Downtown Pampa
UID:e.3508.50
SEQUENCE:3
DTSTAMP:20260421T193823Z
URL:http://pampachambertx.chambermaster.com/events/details/fall-harvest-on-the-bricks-50
END:VEVENT

END:VCALENDAR
